BEGIN:VCALENDAR
VERSION:2.0
PRODID:-//Liverpool Cathedral - ECPv6.15.20//NONSGML v1.0//EN
CALSCALE:GREGORIAN
METHOD:PUBLISH
X-WR-CALNAME:Liverpool Cathedral
X-ORIGINAL-URL:https://liverpoolcathedral.org.uk
X-WR-CALDESC:Events for Liverpool Cathedral
REFRESH-INTERVAL;VALUE=DURATION:PT1H
X-Robots-Tag:noindex
X-PUBLISHED-TTL:PT1H
BEGIN:VTIMEZONE
TZID:Europe/London
BEGIN:DAYLIGHT
TZOFFSETFROM:+0000
TZOFFSETTO:+0100
TZNAME:BST
DTSTART:20250330T010000
END:DAYLIGHT
BEGIN:STANDARD
TZOFFSETFROM:+0100
TZOFFSETTO:+0000
TZNAME:GMT
DTSTART:20251026T010000
END:STANDARD
BEGIN:DAYLIGHT
TZOFFSETFROM:+0000
TZOFFSETTO:+0100
TZNAME:BST
DTSTART:20260329T010000
END:DAYLIGHT
BEGIN:STANDARD
TZOFFSETFROM:+0100
TZOFFSETTO:+0000
TZNAME:GMT
DTSTART:20261025T010000
END:STANDARD
BEGIN:DAYLIGHT
TZOFFSETFROM:+0000
TZOFFSETTO:+0100
TZNAME:BST
DTSTART:20270328T010000
END:DAYLIGHT
BEGIN:STANDARD
TZOFFSETFROM:+0100
TZOFFSETTO:+0000
TZNAME:GMT
DTSTART:20271031T010000
END:STANDARD
END:VTIMEZONE
BEGIN:VEVENT
DTSTART;TZID=Europe/London:20260425T150000
DTEND;TZID=Europe/London:20260425T160000
DTSTAMP:20260421T122709
CREATED:20250515T084543Z
LAST-MODIFIED:20250515T084543Z
UID:10036665-1777129200-1777132800@liverpoolcathedral.org.uk
SUMMARY:Evensong
DESCRIPTION:All welcome. \nJoin us at Liverpool Cathedral for Evensong. \nYou can find out more about this type of service on our Regular Services page. \n\nDigital Giving\nIf you’d like to consider giving online instead of cash or envelopes on the collection plate\, you can find out more on our donation page. \nLiverpool Cathedral is a registered charity no 1205970
URL:https://liverpoolcathedral.org.uk/events/evensong-8-5-3/2026-04-25/
LOCATION:Presbytery
CATEGORIES:Services
ATTACH;FMTTYPE=image/jpeg:https://liverpoolcathedral.org.uk/wp-content/uploads/2024/02/Liverpool-Cathedral_High-Res_418.jpg
END:VEVENT
BEGIN:VEVENT
DTSTART;TZID=Europe/London:20260428T173000
DTEND;TZID=Europe/London:20260428T180000
DTSTAMP:20260421T122709
CREATED:20260313T094003Z
LAST-MODIFIED:20260331T075242Z
UID:10058028-1777397400-1777399200@liverpoolcathedral.org.uk
SUMMARY:Evensong
DESCRIPTION:All welcome. \nJoin us at Liverpool Cathedral for Evensong. This service gives you the opportunity to relax\, pray and reflect. \nYou can find out more about this type of service on our Regular Services page. \n\nDigital Giving\nIf you’d like to consider giving online instead of cash or envelopes on the collection plate\, you can find out more on our donation page. \nLiverpool Cathedral is a registered charity no 1205970
URL:https://liverpoolcathedral.org.uk/events/evensong-2-2-6/
LOCATION:Presbytery
CATEGORIES:Services
ATTACH;FMTTYPE=image/jpeg:https://liverpoolcathedral.org.uk/wp-content/uploads/2024/02/Liverpool-Cathedral_High-Res_418.jpg
END:VEVENT
BEGIN:VEVENT
DTSTART;TZID=Europe/London:20260430T173000
DTEND;TZID=Europe/London:20260430T180000
DTSTAMP:20260421T122709
CREATED:20260213T101546Z
LAST-MODIFIED:20260213T101546Z
UID:10058029-1777570200-1777572000@liverpoolcathedral.org.uk
SUMMARY:Evensong
DESCRIPTION:All welcome. \nJoin us at Liverpool Cathedral for Evensong. This service gives you the opportunity to relax\, pray and reflect. \nYou can find out more about this type of service on our Regular Services page. \n\nDigital Giving\nIf you’d like to consider giving online instead of cash or envelopes on the collection plate\, you can find out more on our donation page. \nLiverpool Cathedral is a registered charity no 1205970
URL:https://liverpoolcathedral.org.uk/events/evensong-2-2/2026-04-30/
LOCATION:Presbytery
CATEGORIES:Services
ATTACH;FMTTYPE=image/jpeg:https://liverpoolcathedral.org.uk/wp-content/uploads/2024/02/Liverpool-Cathedral_High-Res_418.jpg
END:VEVENT
BEGIN:VEVENT
DTSTART;TZID=Europe/London:20260502T150000
DTEND;TZID=Europe/London:20260502T160000
DTSTAMP:20260421T122709
CREATED:20260313T094713Z
LAST-MODIFIED:20260331T075515Z
UID:10036666-1777734000-1777737600@liverpoolcathedral.org.uk
SUMMARY:Evensong
DESCRIPTION:All welcome. \nJoin us at Liverpool Cathedral for Evensong. \nYou can find out more about this type of service on our Regular Services page. \n\nDigital Giving\nIf you’d like to consider giving online instead of cash or envelopes on the collection plate\, you can find out more on our donation page. \nLiverpool Cathedral is a registered charity no 1205970
URL:https://liverpoolcathedral.org.uk/events/evensong-8-5-3-9/
LOCATION:Presbytery
CATEGORIES:Services
ATTACH;FMTTYPE=image/jpeg:https://liverpoolcathedral.org.uk/wp-content/uploads/2024/02/Liverpool-Cathedral_High-Res_418.jpg
END:VEVENT
BEGIN:VEVENT
DTSTART;TZID=Europe/London:20260503T150000
DTEND;TZID=Europe/London:20260503T160000
DTSTAMP:20260421T122709
CREATED:20250714T124212Z
LAST-MODIFIED:20250714T124213Z
UID:10041182-1777820400-1777824000@liverpoolcathedral.org.uk
SUMMARY:Evensong
DESCRIPTION:All welcome. \nJoin us at Liverpool Cathedral for Evensong. This service gives you the opportunity to relax\, pray and reflect. \nYou can find out more about this type of service on our Regular Services page. \n\nDigital Giving\nIf you’d like to consider giving online instead of cash or envelopes on the collection plate\, you can find out more on our donation page. \nLiverpool Cathedral is a registered charity no 1205970
URL:https://liverpoolcathedral.org.uk/events/evensong-9-2-3-2/2026-05-03/
LOCATION:Presbytery
CATEGORIES:Services
ATTACH;FMTTYPE=image/jpeg:https://liverpoolcathedral.org.uk/wp-content/uploads/2024/02/Liverpool-Cathedral_High-Res_418.jpg
END:VEVENT
BEGIN:VEVENT
DTSTART;TZID=Europe/London:20260505T173000
DTEND;TZID=Europe/London:20260505T180000
DTSTAMP:20260421T122709
CREATED:20260213T101546Z
LAST-MODIFIED:20260213T101546Z
UID:10058032-1778002200-1778004000@liverpoolcathedral.org.uk
SUMMARY:Evensong
DESCRIPTION:All welcome. \nJoin us at Liverpool Cathedral for Evensong. This service gives you the opportunity to relax\, pray and reflect. \nYou can find out more about this type of service on our Regular Services page. \n\nDigital Giving\nIf you’d like to consider giving online instead of cash or envelopes on the collection plate\, you can find out more on our donation page. \nLiverpool Cathedral is a registered charity no 1205970
URL:https://liverpoolcathedral.org.uk/events/evensong-2-2/2026-05-05/
LOCATION:Presbytery
CATEGORIES:Services
ATTACH;FMTTYPE=image/jpeg:https://liverpoolcathedral.org.uk/wp-content/uploads/2024/02/Liverpool-Cathedral_High-Res_418.jpg
END:VEVENT
BEGIN:VEVENT
DTSTART;TZID=Europe/London:20260508T173000
DTEND;TZID=Europe/London:20260508T180000
DTSTAMP:20260421T122709
CREATED:20260313T095358Z
LAST-MODIFIED:20260331T075713Z
UID:10058034-1778261400-1778263200@liverpoolcathedral.org.uk
SUMMARY:Evensong
DESCRIPTION:All welcome. \nJoin us at Liverpool Cathedral for Evensong. This service gives you the opportunity to relax\, pray and reflect. \nYou can find out more about this type of service on our Regular Services page. \n\nDigital Giving\nIf you’d like to consider giving online instead of cash or envelopes on the collection plate\, you can find out more on our donation page. \nLiverpool Cathedral is a registered charity no 1205970
URL:https://liverpoolcathedral.org.uk/events/evensong-2-2-10/
LOCATION:Presbytery
CATEGORIES:Services
ATTACH;FMTTYPE=image/jpeg:https://liverpoolcathedral.org.uk/wp-content/uploads/2024/02/Liverpool-Cathedral_High-Res_418.jpg
END:VEVENT
BEGIN:VEVENT
DTSTART;TZID=Europe/London:20260509T150000
DTEND;TZID=Europe/London:20260509T160000
DTSTAMP:20260421T122709
CREATED:20250515T084543Z
LAST-MODIFIED:20250515T084543Z
UID:10036667-1778338800-1778342400@liverpoolcathedral.org.uk
SUMMARY:Evensong
DESCRIPTION:All welcome. \nJoin us at Liverpool Cathedral for Evensong. \nYou can find out more about this type of service on our Regular Services page. \n\nDigital Giving\nIf you’d like to consider giving online instead of cash or envelopes on the collection plate\, you can find out more on our donation page. \nLiverpool Cathedral is a registered charity no 1205970
URL:https://liverpoolcathedral.org.uk/events/evensong-8-5-3/2026-05-09/
LOCATION:Presbytery
CATEGORIES:Services
ATTACH;FMTTYPE=image/jpeg:https://liverpoolcathedral.org.uk/wp-content/uploads/2024/02/Liverpool-Cathedral_High-Res_418.jpg
END:VEVENT
BEGIN:VEVENT
DTSTART;TZID=Europe/London:20260510T150000
DTEND;TZID=Europe/London:20260510T160000
DTSTAMP:20260421T122709
CREATED:20250714T124212Z
LAST-MODIFIED:20250714T124213Z
UID:10041183-1778425200-1778428800@liverpoolcathedral.org.uk
SUMMARY:Evensong
DESCRIPTION:All welcome. \nJoin us at Liverpool Cathedral for Evensong. This service gives you the opportunity to relax\, pray and reflect. \nYou can find out more about this type of service on our Regular Services page. \n\nDigital Giving\nIf you’d like to consider giving online instead of cash or envelopes on the collection plate\, you can find out more on our donation page. \nLiverpool Cathedral is a registered charity no 1205970
URL:https://liverpoolcathedral.org.uk/events/evensong-9-2-3-2/2026-05-10/
LOCATION:Presbytery
CATEGORIES:Services
ATTACH;FMTTYPE=image/jpeg:https://liverpoolcathedral.org.uk/wp-content/uploads/2024/02/Liverpool-Cathedral_High-Res_418.jpg
END:VEVENT
BEGIN:VEVENT
DTSTART;TZID=Europe/London:20260512T173000
DTEND;TZID=Europe/London:20260512T180000
DTSTAMP:20260421T122709
CREATED:20260313T100052Z
LAST-MODIFIED:20260331T075838Z
UID:10058036-1778607000-1778608800@liverpoolcathedral.org.uk
SUMMARY:Evensong
DESCRIPTION:All welcome. \nJoin us at Liverpool Cathedral for Evensong. This service gives you the opportunity to relax\, pray and reflect. \nYou can find out more about this type of service on our Regular Services page. \n\nDigital Giving\nIf you’d like to consider giving online instead of cash or envelopes on the collection plate\, you can find out more on our donation page. \nLiverpool Cathedral is a registered charity no 1205970
URL:https://liverpoolcathedral.org.uk/events/evensong-2-2-12/
LOCATION:Presbytery
CATEGORIES:Services
ATTACH;FMTTYPE=image/jpeg:https://liverpoolcathedral.org.uk/wp-content/uploads/2024/02/Liverpool-Cathedral_High-Res_418.jpg
END:VEVENT
BEGIN:VEVENT
DTSTART;TZID=Europe/London:20260514T173000
DTEND;TZID=Europe/London:20260514T180000
DTSTAMP:20260421T122709
CREATED:20260213T101546Z
LAST-MODIFIED:20260213T101546Z
UID:10058037-1778779800-1778781600@liverpoolcathedral.org.uk
SUMMARY:Evensong
DESCRIPTION:All welcome. \nJoin us at Liverpool Cathedral for Evensong. This service gives you the opportunity to relax\, pray and reflect. \nYou can find out more about this type of service on our Regular Services page. \n\nDigital Giving\nIf you’d like to consider giving online instead of cash or envelopes on the collection plate\, you can find out more on our donation page. \nLiverpool Cathedral is a registered charity no 1205970
URL:https://liverpoolcathedral.org.uk/events/evensong-2-2/2026-05-14/
LOCATION:Presbytery
CATEGORIES:Services
ATTACH;FMTTYPE=image/jpeg:https://liverpoolcathedral.org.uk/wp-content/uploads/2024/02/Liverpool-Cathedral_High-Res_418.jpg
END:VEVENT
BEGIN:VEVENT
DTSTART;TZID=Europe/London:20260517T150000
DTEND;TZID=Europe/London:20260517T160000
DTSTAMP:20260421T122709
CREATED:20250714T124212Z
LAST-MODIFIED:20250714T124213Z
UID:10041184-1779030000-1779033600@liverpoolcathedral.org.uk
SUMMARY:Evensong
DESCRIPTION:All welcome. \nJoin us at Liverpool Cathedral for Evensong. This service gives you the opportunity to relax\, pray and reflect. \nYou can find out more about this type of service on our Regular Services page. \n\nDigital Giving\nIf you’d like to consider giving online instead of cash or envelopes on the collection plate\, you can find out more on our donation page. \nLiverpool Cathedral is a registered charity no 1205970
URL:https://liverpoolcathedral.org.uk/events/evensong-9-2-3-2/2026-05-17/
LOCATION:Presbytery
CATEGORIES:Services
ATTACH;FMTTYPE=image/jpeg:https://liverpoolcathedral.org.uk/wp-content/uploads/2024/02/Liverpool-Cathedral_High-Res_418.jpg
END:VEVENT
BEGIN:VEVENT
DTSTART;TZID=Europe/London:20260518T173000
DTEND;TZID=Europe/London:20260518T180000
DTSTAMP:20260421T122709
CREATED:20260213T101546Z
LAST-MODIFIED:20260213T101546Z
UID:10058039-1779125400-1779127200@liverpoolcathedral.org.uk
SUMMARY:Evensong
DESCRIPTION:All welcome. \nJoin us at Liverpool Cathedral for Evensong. This service gives you the opportunity to relax\, pray and reflect. \nYou can find out more about this type of service on our Regular Services page. \n\nDigital Giving\nIf you’d like to consider giving online instead of cash or envelopes on the collection plate\, you can find out more on our donation page. \nLiverpool Cathedral is a registered charity no 1205970
URL:https://liverpoolcathedral.org.uk/events/evensong-2-2/2026-05-18/
LOCATION:Presbytery
CATEGORIES:Services
ATTACH;FMTTYPE=image/jpeg:https://liverpoolcathedral.org.uk/wp-content/uploads/2024/02/Liverpool-Cathedral_High-Res_418.jpg
END:VEVENT
BEGIN:VEVENT
DTSTART;TZID=Europe/London:20260519T173000
DTEND;TZID=Europe/London:20260519T180000
DTSTAMP:20260421T122709
CREATED:20260213T101546Z
LAST-MODIFIED:20260213T101546Z
UID:10058040-1779211800-1779213600@liverpoolcathedral.org.uk
SUMMARY:Evensong
DESCRIPTION:All welcome. \nJoin us at Liverpool Cathedral for Evensong. This service gives you the opportunity to relax\, pray and reflect. \nYou can find out more about this type of service on our Regular Services page. \n\nDigital Giving\nIf you’d like to consider giving online instead of cash or envelopes on the collection plate\, you can find out more on our donation page. \nLiverpool Cathedral is a registered charity no 1205970
URL:https://liverpoolcathedral.org.uk/events/evensong-2-2/2026-05-19/
LOCATION:Presbytery
CATEGORIES:Services
ATTACH;FMTTYPE=image/jpeg:https://liverpoolcathedral.org.uk/wp-content/uploads/2024/02/Liverpool-Cathedral_High-Res_418.jpg
END:VEVENT
BEGIN:VEVENT
DTSTART;TZID=Europe/London:20260523T150000
DTEND;TZID=Europe/London:20260523T160000
DTSTAMP:20260421T122709
CREATED:20250515T084543Z
LAST-MODIFIED:20250515T084543Z
UID:10036669-1779548400-1779552000@liverpoolcathedral.org.uk
SUMMARY:Evensong
DESCRIPTION:All welcome. \nJoin us at Liverpool Cathedral for Evensong. \nYou can find out more about this type of service on our Regular Services page. \n\nDigital Giving\nIf you’d like to consider giving online instead of cash or envelopes on the collection plate\, you can find out more on our donation page. \nLiverpool Cathedral is a registered charity no 1205970
URL:https://liverpoolcathedral.org.uk/events/evensong-8-5-3/2026-05-23/
LOCATION:Presbytery
CATEGORIES:Services
ATTACH;FMTTYPE=image/jpeg:https://liverpoolcathedral.org.uk/wp-content/uploads/2024/02/Liverpool-Cathedral_High-Res_418.jpg
END:VEVENT
BEGIN:VEVENT
DTSTART;TZID=Europe/London:20260606T150000
DTEND;TZID=Europe/London:20260606T160000
DTSTAMP:20260421T122709
CREATED:20260417T101615Z
LAST-MODIFIED:20260417T101615Z
UID:10036671-1780758000-1780761600@liverpoolcathedral.org.uk
SUMMARY:Evening Prayer (followed by Vivaldi's Gloria)
DESCRIPTION:All welcome. \nJoin us at Liverpool Cathedral for Evening Prayer. \nYou can find out more about this type of service on our Regular Services page. \n\nDigital Giving\nIf you’d like to consider giving online instead of cash or envelopes on the collection plate\, you can find out more on our donation page. \nLiverpool Cathedral is a registered charity no 1205970
URL:https://liverpoolcathedral.org.uk/events/evensong-8-5-3-4/
LOCATION:Presbytery
CATEGORIES:Services
ATTACH;FMTTYPE=image/jpeg:https://liverpoolcathedral.org.uk/wp-content/uploads/2024/02/Liverpool-Cathedral_High-Res_418.jpg
END:VEVENT
BEGIN:VEVENT
DTSTART;TZID=Europe/London:20260607T150000
DTEND;TZID=Europe/London:20260607T160000
DTSTAMP:20260421T122710
CREATED:20250714T124212Z
LAST-MODIFIED:20250714T124213Z
UID:10041187-1780844400-1780848000@liverpoolcathedral.org.uk
SUMMARY:Evensong
DESCRIPTION:All welcome. \nJoin us at Liverpool Cathedral for Evensong. This service gives you the opportunity to relax\, pray and reflect. \nYou can find out more about this type of service on our Regular Services page. \n\nDigital Giving\nIf you’d like to consider giving online instead of cash or envelopes on the collection plate\, you can find out more on our donation page. \nLiverpool Cathedral is a registered charity no 1205970
URL:https://liverpoolcathedral.org.uk/events/evensong-9-2-3-2/2026-06-07/
LOCATION:Presbytery
CATEGORIES:Services
ATTACH;FMTTYPE=image/jpeg:https://liverpoolcathedral.org.uk/wp-content/uploads/2024/02/Liverpool-Cathedral_High-Res_418.jpg
END:VEVENT
BEGIN:VEVENT
DTSTART;TZID=Europe/London:20260613T150000
DTEND;TZID=Europe/London:20260613T160000
DTSTAMP:20260421T122710
CREATED:20250515T084543Z
LAST-MODIFIED:20250515T084543Z
UID:10036672-1781362800-1781366400@liverpoolcathedral.org.uk
SUMMARY:Evensong
DESCRIPTION:All welcome. \nJoin us at Liverpool Cathedral for Evensong. \nYou can find out more about this type of service on our Regular Services page. \n\nDigital Giving\nIf you’d like to consider giving online instead of cash or envelopes on the collection plate\, you can find out more on our donation page. \nLiverpool Cathedral is a registered charity no 1205970
URL:https://liverpoolcathedral.org.uk/events/evensong-8-5-3/2026-06-13/
LOCATION:Presbytery
CATEGORIES:Services
ATTACH;FMTTYPE=image/jpeg:https://liverpoolcathedral.org.uk/wp-content/uploads/2024/02/Liverpool-Cathedral_High-Res_418.jpg
END:VEVENT
BEGIN:VEVENT
DTSTART;TZID=Europe/London:20260614T150000
DTEND;TZID=Europe/London:20260614T160000
DTSTAMP:20260421T122710
CREATED:20250714T124212Z
LAST-MODIFIED:20250714T124213Z
UID:10041188-1781449200-1781452800@liverpoolcathedral.org.uk
SUMMARY:Evensong
DESCRIPTION:All welcome. \nJoin us at Liverpool Cathedral for Evensong. This service gives you the opportunity to relax\, pray and reflect. \nYou can find out more about this type of service on our Regular Services page. \n\nDigital Giving\nIf you’d like to consider giving online instead of cash or envelopes on the collection plate\, you can find out more on our donation page. \nLiverpool Cathedral is a registered charity no 1205970
URL:https://liverpoolcathedral.org.uk/events/evensong-9-2-3-2/2026-06-14/
LOCATION:Presbytery
CATEGORIES:Services
ATTACH;FMTTYPE=image/jpeg:https://liverpoolcathedral.org.uk/wp-content/uploads/2024/02/Liverpool-Cathedral_High-Res_418.jpg
END:VEVENT
BEGIN:VEVENT
DTSTART;TZID=Europe/London:20260620T150000
DTEND;TZID=Europe/London:20260620T160000
DTSTAMP:20260421T122710
CREATED:20250515T084543Z
LAST-MODIFIED:20250515T084543Z
UID:10036673-1781967600-1781971200@liverpoolcathedral.org.uk
SUMMARY:Evensong
DESCRIPTION:All welcome. \nJoin us at Liverpool Cathedral for Evensong. \nYou can find out more about this type of service on our Regular Services page. \n\nDigital Giving\nIf you’d like to consider giving online instead of cash or envelopes on the collection plate\, you can find out more on our donation page. \nLiverpool Cathedral is a registered charity no 1205970
URL:https://liverpoolcathedral.org.uk/events/evensong-8-5-3/2026-06-20/
LOCATION:Presbytery
CATEGORIES:Services
ATTACH;FMTTYPE=image/jpeg:https://liverpoolcathedral.org.uk/wp-content/uploads/2024/02/Liverpool-Cathedral_High-Res_418.jpg
END:VEVENT
BEGIN:VEVENT
DTSTART;TZID=Europe/London:20260621T150000
DTEND;TZID=Europe/London:20260621T160000
DTSTAMP:20260421T122710
CREATED:20250714T124212Z
LAST-MODIFIED:20250714T124213Z
UID:10041189-1782054000-1782057600@liverpoolcathedral.org.uk
SUMMARY:Evensong
DESCRIPTION:All welcome. \nJoin us at Liverpool Cathedral for Evensong. This service gives you the opportunity to relax\, pray and reflect. \nYou can find out more about this type of service on our Regular Services page. \n\nDigital Giving\nIf you’d like to consider giving online instead of cash or envelopes on the collection plate\, you can find out more on our donation page. \nLiverpool Cathedral is a registered charity no 1205970
URL:https://liverpoolcathedral.org.uk/events/evensong-9-2-3-2/2026-06-21/
LOCATION:Presbytery
CATEGORIES:Services
ATTACH;FMTTYPE=image/jpeg:https://liverpoolcathedral.org.uk/wp-content/uploads/2024/02/Liverpool-Cathedral_High-Res_418.jpg
END:VEVENT
BEGIN:VEVENT
DTSTART;TZID=Europe/London:20260627T150000
DTEND;TZID=Europe/London:20260627T160000
DTSTAMP:20260421T122710
CREATED:20250515T084543Z
LAST-MODIFIED:20250515T084543Z
UID:10036674-1782572400-1782576000@liverpoolcathedral.org.uk
SUMMARY:Evensong
DESCRIPTION:All welcome. \nJoin us at Liverpool Cathedral for Evensong. \nYou can find out more about this type of service on our Regular Services page. \n\nDigital Giving\nIf you’d like to consider giving online instead of cash or envelopes on the collection plate\, you can find out more on our donation page. \nLiverpool Cathedral is a registered charity no 1205970
URL:https://liverpoolcathedral.org.uk/events/evensong-8-5-3/2026-06-27/
LOCATION:Presbytery
CATEGORIES:Services
ATTACH;FMTTYPE=image/jpeg:https://liverpoolcathedral.org.uk/wp-content/uploads/2024/02/Liverpool-Cathedral_High-Res_418.jpg
END:VEVENT
BEGIN:VEVENT
DTSTART;TZID=Europe/London:20260628T150000
DTEND;TZID=Europe/London:20260628T160000
DTSTAMP:20260421T122710
CREATED:20250714T124212Z
LAST-MODIFIED:20250714T124213Z
UID:10041190-1782658800-1782662400@liverpoolcathedral.org.uk
SUMMARY:Evensong
DESCRIPTION:All welcome. \nJoin us at Liverpool Cathedral for Evensong. This service gives you the opportunity to relax\, pray and reflect. \nYou can find out more about this type of service on our Regular Services page. \n\nDigital Giving\nIf you’d like to consider giving online instead of cash or envelopes on the collection plate\, you can find out more on our donation page. \nLiverpool Cathedral is a registered charity no 1205970
URL:https://liverpoolcathedral.org.uk/events/evensong-9-2-3-2/2026-06-28/
LOCATION:Presbytery
CATEGORIES:Services
ATTACH;FMTTYPE=image/jpeg:https://liverpoolcathedral.org.uk/wp-content/uploads/2024/02/Liverpool-Cathedral_High-Res_418.jpg
END:VEVENT
BEGIN:VEVENT
DTSTART;TZID=Europe/London:20260704T150000
DTEND;TZID=Europe/London:20260704T160000
DTSTAMP:20260421T122710
CREATED:20250515T084543Z
LAST-MODIFIED:20250515T084543Z
UID:10036675-1783177200-1783180800@liverpoolcathedral.org.uk
SUMMARY:Evensong
DESCRIPTION:All welcome. \nJoin us at Liverpool Cathedral for Evensong. \nYou can find out more about this type of service on our Regular Services page. \n\nDigital Giving\nIf you’d like to consider giving online instead of cash or envelopes on the collection plate\, you can find out more on our donation page. \nLiverpool Cathedral is a registered charity no 1205970
URL:https://liverpoolcathedral.org.uk/events/evensong-8-5-3/2026-07-04/
LOCATION:Presbytery
CATEGORIES:Services
ATTACH;FMTTYPE=image/jpeg:https://liverpoolcathedral.org.uk/wp-content/uploads/2024/02/Liverpool-Cathedral_High-Res_418.jpg
END:VEVENT
BEGIN:VEVENT
DTSTART;TZID=Europe/London:20260705T150000
DTEND;TZID=Europe/London:20260705T160000
DTSTAMP:20260421T122710
CREATED:20250714T124212Z
LAST-MODIFIED:20250714T124213Z
UID:10041191-1783263600-1783267200@liverpoolcathedral.org.uk
SUMMARY:Evensong
DESCRIPTION:All welcome. \nJoin us at Liverpool Cathedral for Evensong. This service gives you the opportunity to relax\, pray and reflect. \nYou can find out more about this type of service on our Regular Services page. \n\nDigital Giving\nIf you’d like to consider giving online instead of cash or envelopes on the collection plate\, you can find out more on our donation page. \nLiverpool Cathedral is a registered charity no 1205970
URL:https://liverpoolcathedral.org.uk/events/evensong-9-2-3-2/2026-07-05/
LOCATION:Presbytery
CATEGORIES:Services
ATTACH;FMTTYPE=image/jpeg:https://liverpoolcathedral.org.uk/wp-content/uploads/2024/02/Liverpool-Cathedral_High-Res_418.jpg
END:VEVENT
BEGIN:VEVENT
DTSTART;TZID=Europe/London:20260711T150000
DTEND;TZID=Europe/London:20260711T160000
DTSTAMP:20260421T122710
CREATED:20250515T084543Z
LAST-MODIFIED:20250515T084543Z
UID:10036676-1783782000-1783785600@liverpoolcathedral.org.uk
SUMMARY:Evensong
DESCRIPTION:All welcome. \nJoin us at Liverpool Cathedral for Evensong. \nYou can find out more about this type of service on our Regular Services page. \n\nDigital Giving\nIf you’d like to consider giving online instead of cash or envelopes on the collection plate\, you can find out more on our donation page. \nLiverpool Cathedral is a registered charity no 1205970
URL:https://liverpoolcathedral.org.uk/events/evensong-8-5-3/2026-07-11/
LOCATION:Presbytery
CATEGORIES:Services
ATTACH;FMTTYPE=image/jpeg:https://liverpoolcathedral.org.uk/wp-content/uploads/2024/02/Liverpool-Cathedral_High-Res_418.jpg
END:VEVENT
BEGIN:VEVENT
DTSTART;TZID=Europe/London:20260712T150000
DTEND;TZID=Europe/London:20260712T160000
DTSTAMP:20260421T122710
CREATED:20250714T124212Z
LAST-MODIFIED:20250714T124213Z
UID:10041192-1783868400-1783872000@liverpoolcathedral.org.uk
SUMMARY:Evensong
DESCRIPTION:All welcome. \nJoin us at Liverpool Cathedral for Evensong. This service gives you the opportunity to relax\, pray and reflect. \nYou can find out more about this type of service on our Regular Services page. \n\nDigital Giving\nIf you’d like to consider giving online instead of cash or envelopes on the collection plate\, you can find out more on our donation page. \nLiverpool Cathedral is a registered charity no 1205970
URL:https://liverpoolcathedral.org.uk/events/evensong-9-2-3-2/2026-07-12/
LOCATION:Presbytery
CATEGORIES:Services
ATTACH;FMTTYPE=image/jpeg:https://liverpoolcathedral.org.uk/wp-content/uploads/2024/02/Liverpool-Cathedral_High-Res_418.jpg
END:VEVENT
BEGIN:VEVENT
DTSTART;TZID=Europe/London:20260718T150000
DTEND;TZID=Europe/London:20260718T160000
DTSTAMP:20260421T122710
CREATED:20250515T084543Z
LAST-MODIFIED:20250515T084543Z
UID:10036677-1784386800-1784390400@liverpoolcathedral.org.uk
SUMMARY:Evensong
DESCRIPTION:All welcome. \nJoin us at Liverpool Cathedral for Evensong. \nYou can find out more about this type of service on our Regular Services page. \n\nDigital Giving\nIf you’d like to consider giving online instead of cash or envelopes on the collection plate\, you can find out more on our donation page. \nLiverpool Cathedral is a registered charity no 1205970
URL:https://liverpoolcathedral.org.uk/events/evensong-8-5-3/2026-07-18/
LOCATION:Presbytery
CATEGORIES:Services
ATTACH;FMTTYPE=image/jpeg:https://liverpoolcathedral.org.uk/wp-content/uploads/2024/02/Liverpool-Cathedral_High-Res_418.jpg
END:VEVENT
BEGIN:VEVENT
DTSTART;TZID=Europe/London:20260719T150000
DTEND;TZID=Europe/London:20260719T160000
DTSTAMP:20260421T122710
CREATED:20250714T124212Z
LAST-MODIFIED:20250714T124213Z
UID:10041193-1784473200-1784476800@liverpoolcathedral.org.uk
SUMMARY:Evensong
DESCRIPTION:All welcome. \nJoin us at Liverpool Cathedral for Evensong. This service gives you the opportunity to relax\, pray and reflect. \nYou can find out more about this type of service on our Regular Services page. \n\nDigital Giving\nIf you’d like to consider giving online instead of cash or envelopes on the collection plate\, you can find out more on our donation page. \nLiverpool Cathedral is a registered charity no 1205970
URL:https://liverpoolcathedral.org.uk/events/evensong-9-2-3-2/2026-07-19/
LOCATION:Presbytery
CATEGORIES:Services
ATTACH;FMTTYPE=image/jpeg:https://liverpoolcathedral.org.uk/wp-content/uploads/2024/02/Liverpool-Cathedral_High-Res_418.jpg
END:VEVENT
BEGIN:VEVENT
DTSTART;TZID=Europe/London:20260725T150000
DTEND;TZID=Europe/London:20260725T160000
DTSTAMP:20260421T122710
CREATED:20250515T084543Z
LAST-MODIFIED:20250515T084543Z
UID:10036678-1784991600-1784995200@liverpoolcathedral.org.uk
SUMMARY:Evensong
DESCRIPTION:All welcome. \nJoin us at Liverpool Cathedral for Evensong. \nYou can find out more about this type of service on our Regular Services page. \n\nDigital Giving\nIf you’d like to consider giving online instead of cash or envelopes on the collection plate\, you can find out more on our donation page. \nLiverpool Cathedral is a registered charity no 1205970
URL:https://liverpoolcathedral.org.uk/events/evensong-8-5-3/2026-07-25/
LOCATION:Presbytery
CATEGORIES:Services
ATTACH;FMTTYPE=image/jpeg:https://liverpoolcathedral.org.uk/wp-content/uploads/2024/02/Liverpool-Cathedral_High-Res_418.jpg
END:VEVENT
END:VCALENDAR