BEGIN:VCALENDAR
VERSION:2.0
PRODID:-//Liverpool Cathedral - ECPv6.15.20//NONSGML v1.0//EN
CALSCALE:GREGORIAN
METHOD:PUBLISH
X-ORIGINAL-URL:https://liverpoolcathedral.org.uk
X-WR-CALDESC:Events for Liverpool Cathedral
REFRESH-INTERVAL;VALUE=DURATION:PT1H
X-Robots-Tag:noindex
X-PUBLISHED-TTL:PT1H
BEGIN:VTIMEZONE
TZID:Europe/London
BEGIN:DAYLIGHT
TZOFFSETFROM:+0000
TZOFFSETTO:+0100
TZNAME:BST
DTSTART:20300331T010000
END:DAYLIGHT
BEGIN:STANDARD
TZOFFSETFROM:+0100
TZOFFSETTO:+0000
TZNAME:GMT
DTSTART:20301027T010000
END:STANDARD
BEGIN:DAYLIGHT
TZOFFSETFROM:+0000
TZOFFSETTO:+0100
TZNAME:BST
DTSTART:20310330T010000
END:DAYLIGHT
BEGIN:STANDARD
TZOFFSETFROM:+0100
TZOFFSETTO:+0000
TZNAME:GMT
DTSTART:20311026T010000
END:STANDARD
BEGIN:DAYLIGHT
TZOFFSETFROM:+0000
TZOFFSETTO:+0100
TZNAME:BST
DTSTART:20320328T010000
END:DAYLIGHT
BEGIN:STANDARD
TZOFFSETFROM:+0100
TZOFFSETTO:+0000
TZNAME:GMT
DTSTART:20321031T010000
END:STANDARD
END:VTIMEZONE
BEGIN:VEVENT
DTSTART;TZID=Europe/London:20310226T130000
DTEND;TZID=Europe/London:20310226T140000
DTSTAMP:20260424T215734
CREATED:20250513T115158Z
LAST-MODIFIED:20260331T103219Z
UID:10058410-1929877200-1929880800@liverpoolcathedral.org.uk
SUMMARY:War Memorial Chapel Tour
DESCRIPTION:Join Roger\, one of our brilliant guides\, for our War Memorial Tour. \nListen to the stories and memories of the War Memorial Chapel\, marvel at the windows and the construction of this space. \nSee the first cenotaph suggested in 1916\, and the Memorial Books of the First and Second World Wars and other artefacts on show…. \n£10 + booking fee \nBook Now Here
URL:https://liverpoolcathedral.org.uk/events/war-memorial-chapel-tour/2031-02-26/
LOCATION:War Memorial Chapel
CATEGORIES:Events,Tours
ATTACH;FMTTYPE=image/jpeg:https://liverpoolcathedral.org.uk/wp-content/uploads/2024/01/War-Memorial-Centaph-insta.jpg
END:VEVENT
BEGIN:VEVENT
DTSTART;TZID=Europe/London:20310305T130000
DTEND;TZID=Europe/London:20310305T140000
DTSTAMP:20260424T215734
CREATED:20250513T115158Z
LAST-MODIFIED:20260331T103219Z
UID:10058459-1930482000-1930485600@liverpoolcathedral.org.uk
SUMMARY:War Memorial Chapel Tour
DESCRIPTION:Join Roger\, one of our brilliant guides\, for our War Memorial Tour. \nListen to the stories and memories of the War Memorial Chapel\, marvel at the windows and the construction of this space. \nSee the first cenotaph suggested in 1916\, and the Memorial Books of the First and Second World Wars and other artefacts on show…. \n£10 + booking fee \nBook Now Here
URL:https://liverpoolcathedral.org.uk/events/war-memorial-chapel-tour/2031-03-05/
LOCATION:War Memorial Chapel
CATEGORIES:Events,Tours
ATTACH;FMTTYPE=image/jpeg:https://liverpoolcathedral.org.uk/wp-content/uploads/2024/01/War-Memorial-Centaph-insta.jpg
END:VEVENT
BEGIN:VEVENT
DTSTART;TZID=Europe/London:20310312T130000
DTEND;TZID=Europe/London:20310312T140000
DTSTAMP:20260424T215734
CREATED:20250513T115158Z
LAST-MODIFIED:20260331T103219Z
UID:10058491-1931086800-1931090400@liverpoolcathedral.org.uk
SUMMARY:War Memorial Chapel Tour
DESCRIPTION:Join Roger\, one of our brilliant guides\, for our War Memorial Tour. \nListen to the stories and memories of the War Memorial Chapel\, marvel at the windows and the construction of this space. \nSee the first cenotaph suggested in 1916\, and the Memorial Books of the First and Second World Wars and other artefacts on show…. \n£10 + booking fee \nBook Now Here
URL:https://liverpoolcathedral.org.uk/events/war-memorial-chapel-tour/2031-03-12/
LOCATION:War Memorial Chapel
CATEGORIES:Events,Tours
ATTACH;FMTTYPE=image/jpeg:https://liverpoolcathedral.org.uk/wp-content/uploads/2024/01/War-Memorial-Centaph-insta.jpg
END:VEVENT
BEGIN:VEVENT
DTSTART;TZID=Europe/London:20310319T130000
DTEND;TZID=Europe/London:20310319T140000
DTSTAMP:20260424T215734
CREATED:20250513T115158Z
LAST-MODIFIED:20260331T103219Z
UID:10058525-1931691600-1931695200@liverpoolcathedral.org.uk
SUMMARY:War Memorial Chapel Tour
DESCRIPTION:Join Roger\, one of our brilliant guides\, for our War Memorial Tour. \nListen to the stories and memories of the War Memorial Chapel\, marvel at the windows and the construction of this space. \nSee the first cenotaph suggested in 1916\, and the Memorial Books of the First and Second World Wars and other artefacts on show…. \n£10 + booking fee \nBook Now Here
URL:https://liverpoolcathedral.org.uk/events/war-memorial-chapel-tour/2031-03-19/
LOCATION:War Memorial Chapel
CATEGORIES:Events,Tours
ATTACH;FMTTYPE=image/jpeg:https://liverpoolcathedral.org.uk/wp-content/uploads/2024/01/War-Memorial-Centaph-insta.jpg
END:VEVENT
BEGIN:VEVENT
DTSTART;TZID=Europe/London:20310326T130000
DTEND;TZID=Europe/London:20310326T140000
DTSTAMP:20260424T215734
CREATED:20250513T115158Z
LAST-MODIFIED:20260331T103219Z
UID:10058587-1932296400-1932300000@liverpoolcathedral.org.uk
SUMMARY:War Memorial Chapel Tour
DESCRIPTION:Join Roger\, one of our brilliant guides\, for our War Memorial Tour. \nListen to the stories and memories of the War Memorial Chapel\, marvel at the windows and the construction of this space. \nSee the first cenotaph suggested in 1916\, and the Memorial Books of the First and Second World Wars and other artefacts on show…. \n£10 + booking fee \nBook Now Here
URL:https://liverpoolcathedral.org.uk/events/war-memorial-chapel-tour/2031-03-26/
LOCATION:War Memorial Chapel
CATEGORIES:Events,Tours
ATTACH;FMTTYPE=image/jpeg:https://liverpoolcathedral.org.uk/wp-content/uploads/2024/01/War-Memorial-Centaph-insta.jpg
END:VEVENT
BEGIN:VEVENT
DTSTART;TZID=Europe/London:20310402T130000
DTEND;TZID=Europe/London:20310402T140000
DTSTAMP:20260424T215734
CREATED:20250513T115158Z
LAST-MODIFIED:20260331T103219Z
UID:10058624-1932901200-1932904800@liverpoolcathedral.org.uk
SUMMARY:War Memorial Chapel Tour
DESCRIPTION:Join Roger\, one of our brilliant guides\, for our War Memorial Tour. \nListen to the stories and memories of the War Memorial Chapel\, marvel at the windows and the construction of this space. \nSee the first cenotaph suggested in 1916\, and the Memorial Books of the First and Second World Wars and other artefacts on show…. \n£10 + booking fee \nBook Now Here
URL:https://liverpoolcathedral.org.uk/events/war-memorial-chapel-tour/2031-04-02/
LOCATION:War Memorial Chapel
CATEGORIES:Events,Tours
ATTACH;FMTTYPE=image/jpeg:https://liverpoolcathedral.org.uk/wp-content/uploads/2024/01/War-Memorial-Centaph-insta.jpg
END:VEVENT
BEGIN:VEVENT
DTSTART;TZID=Europe/London:20310409T130000
DTEND;TZID=Europe/London:20310409T140000
DTSTAMP:20260424T215734
CREATED:20250513T115158Z
LAST-MODIFIED:20260331T103219Z
UID:10058655-1933506000-1933509600@liverpoolcathedral.org.uk
SUMMARY:War Memorial Chapel Tour
DESCRIPTION:Join Roger\, one of our brilliant guides\, for our War Memorial Tour. \nListen to the stories and memories of the War Memorial Chapel\, marvel at the windows and the construction of this space. \nSee the first cenotaph suggested in 1916\, and the Memorial Books of the First and Second World Wars and other artefacts on show…. \n£10 + booking fee \nBook Now Here
URL:https://liverpoolcathedral.org.uk/events/war-memorial-chapel-tour/2031-04-09/
LOCATION:War Memorial Chapel
CATEGORIES:Events,Tours
ATTACH;FMTTYPE=image/jpeg:https://liverpoolcathedral.org.uk/wp-content/uploads/2024/01/War-Memorial-Centaph-insta.jpg
END:VEVENT
END:VCALENDAR